BEGIN:VCALENDAR
VERSION:2.0
PRODID:-//Come-See-Me Festival - ECPv6.15.18//NONSGML v1.0//EN
CALSCALE:GREGORIAN
METHOD:PUBLISH
X-WR-CALNAME:Come-See-Me Festival
X-ORIGINAL-URL:https://www.comeseeme.org
X-WR-CALDESC:Events for Come-See-Me Festival
REFRESH-INTERVAL;VALUE=DURATION:PT1H
X-Robots-Tag:noindex
X-PUBLISHED-TTL:PT1H
BEGIN:VTIMEZONE
TZID:America/New_York
BEGIN:DAYLIGHT
TZOFFSETFROM:-0500
TZOFFSETTO:-0400
TZNAME:EDT
DTSTART:20250309T070000
END:DAYLIGHT
BEGIN:STANDARD
TZOFFSETFROM:-0400
TZOFFSETTO:-0500
TZNAME:EST
DTSTART:20251102T060000
END:STANDARD
BEGIN:DAYLIGHT
TZOFFSETFROM:-0500
TZOFFSETTO:-0400
TZNAME:EDT
DTSTART:20260308T070000
END:DAYLIGHT
BEGIN:STANDARD
TZOFFSETFROM:-0400
TZOFFSETTO:-0500
TZNAME:EST
DTSTART:20261101T060000
END:STANDARD
BEGIN:DAYLIGHT
TZOFFSETFROM:-0500
TZOFFSETTO:-0400
TZNAME:EDT
DTSTART:20270314T070000
END:DAYLIGHT
BEGIN:STANDARD
TZOFFSETFROM:-0400
TZOFFSETTO:-0500
TZNAME:EST
DTSTART:20271107T060000
END:STANDARD
END:VTIMEZONE
BEGIN:VEVENT
DTSTART;TZID=America/New_York:20260419T140000
DTEND;TZID=America/New_York:20260419T170000
DTSTAMP:20260419T125848
CREATED:20210304T211546Z
LAST-MODIFIED:20260217T155711Z
UID:10000412-1776607200-1776618000@www.comeseeme.org
SUMMARY:Sundaes with Glen & Mother Goose
DESCRIPTION:Make your way to beautiful Glencairn Garden for an afternoon of ice cream with Glen the Frog and Mother Goose! \nIce cream is $5 per cup from 2 pm until supplies run out. \nMother Goose will share her stories on stage at 2:30 and 3:30. \nRemember to bring your camera to snap pictures with Glen\, Mother Goose\, and your favorite local mascots. Face painting\, balloon twisting\, and kids activities are free. \nCancelled in the event of rain.
URL:https://www.comeseeme.org/event/sundaes-with-glen-mother-goose/
LOCATION:Glencairn Garden\, 725 Crest St.\, Rock Hill\, SC\, 29730\, United States
CATEGORIES:Sponsored Events
ATTACH;FMTTYPE=image/jpeg:https://www.comeseeme.org/wp-content/uploads/Sundaes-with-Glen-and-Mother-Goose.jpg
ORGANIZER;CN="Come-See-Me Festival":MAILTO:comeseeme@comporium.net
GEO:34.9326024;-81.0214399
X-APPLE-STRUCTURED-LOCATION;VALUE=URI;X-ADDRESS=Glencairn Garden 725 Crest St. Rock Hill SC 29730 United States;X-APPLE-RADIUS=500;X-TITLE=725 Crest St.:geo:-81.0214399,34.9326024
END:VEVENT
BEGIN:VEVENT
DTSTART;TZID=America/New_York:20260420T120000
DTEND;TZID=America/New_York:20260420T133000
DTSTAMP:20260419T125848
CREATED:20260409T182909Z
LAST-MODIFIED:20260409T182910Z
UID:10000495-1776686400-1776691800@www.comeseeme.org
SUMMARY:Glencairn Garden Lunchtime Entertainment
DESCRIPTION:Glencairn Garden Entertainment is a wonderful opportunity to listen to live local music while enjoying the beautiful blooming spring flowers in the garden. Grab a meal from the food truck on-site\, or bring a picnic. Bring your family out to gather with friends in the gardens and enjoy the concerts! \nMonday\, April 20\, 2026\nLunchtime Entertainment – 12:00 pm – 1:30 pm\nLunch Band: Back Roads Quartet\nLunch Vendor: Cheezy Steakz and Hoagiez\, Kona Ice
URL:https://www.comeseeme.org/event/glencairn-garden-lunchtime-entertainment-4-2-2/
LOCATION:Glencairn Garden\, 725 Crest St.\, Rock Hill\, SC\, 29730\, United States
CATEGORIES:Sponsored Events
ATTACH;FMTTYPE=image/jpeg:https://www.comeseeme.org/wp-content/uploads/Glencairn-Garden-Entertainment-2.jpg
ORGANIZER;CN="Come-See-Me Festival":MAILTO:comeseeme@comporium.net
GEO:34.9326024;-81.0214399
X-APPLE-STRUCTURED-LOCATION;VALUE=URI;X-ADDRESS=Glencairn Garden 725 Crest St. Rock Hill SC 29730 United States;X-APPLE-RADIUS=500;X-TITLE=725 Crest St.:geo:-81.0214399,34.9326024
END:VEVENT
BEGIN:VEVENT
DTSTART;TZID=America/New_York:20260420T180000
DTEND;TZID=America/New_York:20260420T193000
DTSTAMP:20260419T125848
CREATED:20260409T190311Z
LAST-MODIFIED:20260409T190311Z
UID:10000499-1776708000-1776713400@www.comeseeme.org
SUMMARY:Glencairn Garden Evening Entertainment
DESCRIPTION:Glencairn Garden Entertainment is a wonderful opportunity to listen to live local music while enjoying the beautiful blooming spring flowers in the garden. Grab a meal from the food truck on-site or bring a picnic. Bring your family out to gather with friends in the gardens and enjoy the concerts! \nMonday\, April 20\, 2026\nEvening Entertainment – 6:00 pm – 7:30 pm\nEvening Band: Donnie Honeycut\nEvening Vendor: Cheezy Steakz and Hoagiez\nKona Ice
URL:https://www.comeseeme.org/event/glencairn-garden-evening-entertainment-4-2-2/
LOCATION:Glencairn Garden\, 725 Crest St.\, Rock Hill\, SC\, 29730\, United States
CATEGORIES:Sponsored Events
ATTACH;FMTTYPE=image/jpeg:https://www.comeseeme.org/wp-content/uploads/Glencairn-Garden-Entertainment-2.jpg
ORGANIZER;CN="Come-See-Me Festival":MAILTO:comeseeme@comporium.net
GEO:34.9326024;-81.0214399
X-APPLE-STRUCTURED-LOCATION;VALUE=URI;X-ADDRESS=Glencairn Garden 725 Crest St. Rock Hill SC 29730 United States;X-APPLE-RADIUS=500;X-TITLE=725 Crest St.:geo:-81.0214399,34.9326024
END:VEVENT
BEGIN:VEVENT
DTSTART;TZID=America/New_York:20260421T120000
DTEND;TZID=America/New_York:20260421T133000
DTSTAMP:20260419T125848
CREATED:20260409T183737Z
LAST-MODIFIED:20260409T183738Z
UID:10000870-1776772800-1776778200@www.comeseeme.org
SUMMARY:Glencairn Garden Lunchtime Entertainment
DESCRIPTION:Glencairn Garden Entertainment is a wonderful opportunity to listen to live local music while enjoying the beautiful blooming spring flowers in the garden. Grab a meal from the food truck on-site\, or bring a picnic. Bring your family out to gather with friends in the gardens and enjoy the concerts! \nTuesday\, April 21\, 2026\nLunchtime Entertainment – 12:00 pm – 1:30 pm\nLunch Band: Christina Raine\nLunch Vendor: Roman’s AllStar Cafe\, Kona Ice
URL:https://www.comeseeme.org/event/glencairn-garden-lunchtime-entertainment-4-2-3/
LOCATION:Glencairn Garden\, 725 Crest St.\, Rock Hill\, SC\, 29730\, United States
CATEGORIES:Sponsored Events
ATTACH;FMTTYPE=image/jpeg:https://www.comeseeme.org/wp-content/uploads/Glencairn-Garden-Entertainment-2.jpg
ORGANIZER;CN="Come-See-Me Festival":MAILTO:comeseeme@comporium.net
GEO:34.9326024;-81.0214399
X-APPLE-STRUCTURED-LOCATION;VALUE=URI;X-ADDRESS=Glencairn Garden 725 Crest St. Rock Hill SC 29730 United States;X-APPLE-RADIUS=500;X-TITLE=725 Crest St.:geo:-81.0214399,34.9326024
END:VEVENT
BEGIN:VEVENT
DTSTART;TZID=America/New_York:20260421T173000
DTEND;TZID=America/New_York:20260421T183000
DTSTAMP:20260419T125848
CREATED:20210304T211612Z
LAST-MODIFIED:20260401T205036Z
UID:10000414-1776792600-1776796200@www.comeseeme.org
SUMMARY:Coloring Contest Awards Ceremony
DESCRIPTION:Contest Winners to be announced
URL:https://www.comeseeme.org/event/coloring-contest-awards-ceremony/
LOCATION:Glencairn Garden\, 725 Crest St.\, Rock Hill\, SC\, 29730\, United States
CATEGORIES:Sponsored Events
ATTACH;FMTTYPE=image/jpeg:https://www.comeseeme.org/wp-content/uploads/Coloring-Contest-Awards-Ceremony.jpg
ORGANIZER;CN="Come-See-Me Festival":MAILTO:comeseeme@comporium.net
GEO:34.9326024;-81.0214399
X-APPLE-STRUCTURED-LOCATION;VALUE=URI;X-ADDRESS=Glencairn Garden 725 Crest St. Rock Hill SC 29730 United States;X-APPLE-RADIUS=500;X-TITLE=725 Crest St.:geo:-81.0214399,34.9326024
END:VEVENT
BEGIN:VEVENT
DTSTART;TZID=America/New_York:20260421T180000
DTEND;TZID=America/New_York:20260421T193000
DTSTAMP:20260419T125848
CREATED:20260409T190324Z
LAST-MODIFIED:20260409T190325Z
UID:10000867-1776794400-1776799800@www.comeseeme.org
SUMMARY:Glencairn Garden Evening Entertainment
DESCRIPTION:Glencairn Garden Entertainment is a wonderful opportunity to listen to live local music while enjoying the beautiful blooming spring flowers in the garden. Grab a meal from the food truck on-site or bring a picnic. Bring your family out to gather with friends in the gardens and enjoy the concerts! \nTuesday\, April 21\, 2026\nEvening Entertainment – 6:00 pm – 7:30 pm\nEvening Band: DT’s Trio\nEvening Vendor: Roman’s AllStar Cafe\nKona Ice
URL:https://www.comeseeme.org/event/glencairn-garden-evening-entertainment-4-2-3/
LOCATION:Glencairn Garden\, 725 Crest St.\, Rock Hill\, SC\, 29730\, United States
CATEGORIES:Sponsored Events
ATTACH;FMTTYPE=image/jpeg:https://www.comeseeme.org/wp-content/uploads/Glencairn-Garden-Entertainment-2.jpg
ORGANIZER;CN="Come-See-Me Festival":MAILTO:comeseeme@comporium.net
GEO:34.9326024;-81.0214399
X-APPLE-STRUCTURED-LOCATION;VALUE=URI;X-ADDRESS=Glencairn Garden 725 Crest St. Rock Hill SC 29730 United States;X-APPLE-RADIUS=500;X-TITLE=725 Crest St.:geo:-81.0214399,34.9326024
END:VEVENT
BEGIN:VEVENT
DTSTART;TZID=America/New_York:20260422T120000
DTEND;TZID=America/New_York:20260422T133000
DTSTAMP:20260419T125848
CREATED:20260409T190210Z
LAST-MODIFIED:20260409T190211Z
UID:10000871-1776859200-1776864600@www.comeseeme.org
SUMMARY:Glencairn Garden Lunchtime Entertainment
DESCRIPTION:Glencairn Garden Entertainment is a wonderful opportunity to listen to live local music while enjoying the beautiful blooming spring flowers in the garden. Grab a meal from the food truck on-site\, or bring a picnic. Bring your family out to gather with friends in the gardens and enjoy the concerts! \nWednesday\, April 22\, 2026\nLunchtime Entertainment – 12:00 pm – 1:30 pm\nLunch Band: Rock Hill Symphony Orchestra\nLunch Vendor: JamRock Jerk Spot\, Kona Ice
URL:https://www.comeseeme.org/event/glencairn-garden-lunchtime-entertainment-4-2-4/
LOCATION:Glencairn Garden\, 725 Crest St.\, Rock Hill\, SC\, 29730\, United States
CATEGORIES:Sponsored Events
ATTACH;FMTTYPE=image/jpeg:https://www.comeseeme.org/wp-content/uploads/Glencairn-Garden-Entertainment-2.jpg
ORGANIZER;CN="Come-See-Me Festival":MAILTO:comeseeme@comporium.net
GEO:34.9326024;-81.0214399
X-APPLE-STRUCTURED-LOCATION;VALUE=URI;X-ADDRESS=Glencairn Garden 725 Crest St. Rock Hill SC 29730 United States;X-APPLE-RADIUS=500;X-TITLE=725 Crest St.:geo:-81.0214399,34.9326024
END:VEVENT
BEGIN:VEVENT
DTSTART;TZID=America/New_York:20260422T180000
DTEND;TZID=America/New_York:20260422T193000
DTSTAMP:20260419T125848
CREATED:20260409T190344Z
LAST-MODIFIED:20260409T190345Z
UID:10000868-1776880800-1776886200@www.comeseeme.org
SUMMARY:Glencairn Garden Evening Entertainment
DESCRIPTION:Glencairn Garden Entertainment is a wonderful opportunity to listen to live local music while enjoying the beautiful blooming spring flowers in the garden. Grab a meal from the food truck on-site or bring a picnic. Bring your family out to gather with friends in the gardens and enjoy the concerts! \nWednesday\, April 22\, 2026\nEvening Entertainment – 6:00 pm – 7:30 pm\nEvening Band: Chase Killough\nEvening Vendor: JamRock Jerk Spot\nKona Ice
URL:https://www.comeseeme.org/event/glencairn-garden-evening-entertainment-4-2-4/
LOCATION:Glencairn Garden\, 725 Crest St.\, Rock Hill\, SC\, 29730\, United States
CATEGORIES:Sponsored Events
ATTACH;FMTTYPE=image/jpeg:https://www.comeseeme.org/wp-content/uploads/Glencairn-Garden-Entertainment-2.jpg
ORGANIZER;CN="Come-See-Me Festival":MAILTO:comeseeme@comporium.net
GEO:34.9326024;-81.0214399
X-APPLE-STRUCTURED-LOCATION;VALUE=URI;X-ADDRESS=Glencairn Garden 725 Crest St. Rock Hill SC 29730 United States;X-APPLE-RADIUS=500;X-TITLE=725 Crest St.:geo:-81.0214399,34.9326024
END:VEVENT
BEGIN:VEVENT
DTSTART;TZID=America/New_York:20260423T120000
DTEND;TZID=America/New_York:20260423T133000
DTSTAMP:20260419T125848
CREATED:20260409T190238Z
LAST-MODIFIED:20260409T190239Z
UID:10000872-1776945600-1776951000@www.comeseeme.org
SUMMARY:Glencairn Garden Lunchtime Entertainment
DESCRIPTION:Glencairn Garden Entertainment is a wonderful opportunity to listen to live local music while enjoying the beautiful blooming spring flowers in the garden. Grab a meal from the food truck on-site\, or bring a picnic. Bring your family out to gather with friends in the gardens and enjoy the concerts! \nThursday\, April 23\, 2026\nLunchtime Entertainment – 12:00 pm – 1:30 pm\nLunch Band: Dawson Duos – Scott Dawson\nLunch Vendor: King of Fire\, Kona Ice
URL:https://www.comeseeme.org/event/glencairn-garden-lunchtime-entertainment-4-2-5/
LOCATION:Glencairn Garden\, 725 Crest St.\, Rock Hill\, SC\, 29730\, United States
CATEGORIES:Sponsored Events
ATTACH;FMTTYPE=image/jpeg:https://www.comeseeme.org/wp-content/uploads/Glencairn-Garden-Entertainment-2.jpg
ORGANIZER;CN="Come-See-Me Festival":MAILTO:comeseeme@comporium.net
GEO:34.9326024;-81.0214399
X-APPLE-STRUCTURED-LOCATION;VALUE=URI;X-ADDRESS=Glencairn Garden 725 Crest St. Rock Hill SC 29730 United States;X-APPLE-RADIUS=500;X-TITLE=725 Crest St.:geo:-81.0214399,34.9326024
END:VEVENT
BEGIN:VEVENT
DTSTART;TZID=America/New_York:20260423T180000
DTEND;TZID=America/New_York:20260423T193000
DTSTAMP:20260419T125848
CREATED:20260409T190417Z
LAST-MODIFIED:20260409T190417Z
UID:10000869-1776967200-1776972600@www.comeseeme.org
SUMMARY:Glencairn Garden Evening Entertainment
DESCRIPTION:Glencairn Garden Entertainment is a wonderful opportunity to listen to live local music while enjoying the beautiful blooming spring flowers in the garden. Grab a meal from the food truck on-site or bring a picnic. Bring your family out to gather with friends in the gardens and enjoy the concerts! \nThursday\, April 23\, 2026\nEvening Entertainment – 6:00 pm – 7:30 pm\nEvening Band: John Hardin\nEvening Vendor: King of Fire\nKona Ice
URL:https://www.comeseeme.org/event/glencairn-garden-evening-entertainment-4-2-5/
LOCATION:Glencairn Garden\, 725 Crest St.\, Rock Hill\, SC\, 29730\, United States
CATEGORIES:Sponsored Events
ATTACH;FMTTYPE=image/jpeg:https://www.comeseeme.org/wp-content/uploads/Glencairn-Garden-Entertainment-2.jpg
ORGANIZER;CN="Come-See-Me Festival":MAILTO:comeseeme@comporium.net
GEO:34.9326024;-81.0214399
X-APPLE-STRUCTURED-LOCATION;VALUE=URI;X-ADDRESS=Glencairn Garden 725 Crest St. Rock Hill SC 29730 United States;X-APPLE-RADIUS=500;X-TITLE=725 Crest St.:geo:-81.0214399,34.9326024
END:VEVENT
END:VCALENDAR